BEGIN:VCALENDAR
VERSION:2.0
PRODID:-//SV 07 Kriftel//Events//DE
CALSCALE:GREGORIAN
METHOD:PUBLISH
BEGIN:VTIMEZONE
TZID:Europe/Berlin
BEGIN:DAYLIGHT
TZOFFSETFROM:+0100
TZOFFSETTO:+0200
TZNAME:CEST
DTSTART:19700329T020000
RRULE:FREQ=YEARLY;BYMONTH=3;BYDAY=-1SU
END:DAYLIGHT
BEGIN:STANDARD
TZOFFSETFROM:+0200
TZOFFSETTO:+0100
TZNAME:CET
DTSTART:19701025T030000
RRULE:FREQ=YEARLY;BYMONTH=10;BYDAY=-1SU
END:STANDARD
END:VTIMEZONE
BEGIN:VEVENT
UID:0636a480-cdb4-4bc2-833f-cf72bfdad8ee@sv07kriftel.de
DTSTAMP:20260424T153320.372Z
DTSTART;TZID=Europe/Berlin:20260519T070000
DTEND;TZID=Europe/Berlin:20260519T090000
SUMMARY:Bundesjugendspiele Elisabethenschule
DESCRIPTION:Kadermanager: https://sv07kriftel-trainer.kadermanager.de/events/19669854
LOCATION:Sportplatz Kriftel
URL:https://sv07kriftel.de/veranstaltungen/bundesjugendspiele-elisabethenschule-2026-05-19
END:VEVENT
END:VCALENDAR