BEGIN:VCALENDAR
VERSION:2.0
PRODID:-//SV 07 Kriftel//Events//DE
CALSCALE:GREGORIAN
METHOD:PUBLISH
BEGIN:VTIMEZONE
TZID:Europe/Berlin
BEGIN:DAYLIGHT
TZOFFSETFROM:+0100
TZOFFSETTO:+0200
TZNAME:CEST
DTSTART:19700329T020000
RRULE:FREQ=YEARLY;BYMONTH=3;BYDAY=-1SU
END:DAYLIGHT
BEGIN:STANDARD
TZOFFSETFROM:+0200
TZOFFSETTO:+0100
TZNAME:CET
DTSTART:19701025T030000
RRULE:FREQ=YEARLY;BYMONTH=10;BYDAY=-1SU
END:STANDARD
END:VTIMEZONE
BEGIN:VEVENT
UID:b1ab3271-3bb8-4196-9cb1-840af707f13c@sv07kriftel.de
DTSTAMP:20260424T153522.165Z
DTSTART;TZID=Europe/Berlin:20260619T070000
DTEND;TZID=Europe/Berlin:20260619T090000
SUMMARY:Bundesjugendspiele Pestalozzi-Schule
DESCRIPTION:Kadermanager: https://sv07kriftel-trainer.kadermanager.de/events/19582093
LOCATION:Sportplatz Kriftel
URL:https://sv07kriftel.de/veranstaltungen/bundesjugendspiele-pestalozzi-schule-2026-06-19
END:VEVENT
END:VCALENDAR