BEGIN:VCALENDAR
VERSION:2.0
PRODID:-//SV 07 Kriftel//Events//DE
CALSCALE:GREGORIAN
METHOD:PUBLISH
BEGIN:VTIMEZONE
TZID:Europe/Berlin
BEGIN:DAYLIGHT
TZOFFSETFROM:+0100
TZOFFSETTO:+0200
TZNAME:CEST
DTSTART:19700329T020000
RRULE:FREQ=YEARLY;BYMONTH=3;BYDAY=-1SU
END:DAYLIGHT
BEGIN:STANDARD
TZOFFSETFROM:+0200
TZOFFSETTO:+0100
TZNAME:CET
DTSTART:19701025T030000
RRULE:FREQ=YEARLY;BYMONTH=10;BYDAY=-1SU
END:STANDARD
END:VTIMEZONE
BEGIN:VEVENT
UID:bc81b4c2-5797-4ce4-818d-22bd6da397fa@sv07kriftel.de
DTSTAMP:20260424T153754.646Z
DTSTART;TZID=Europe/Berlin:20260622T070000
DTEND;TZID=Europe/Berlin:20260622T090000
SUMMARY:Bundesjugendspiele Pestalozzi-Schule (Ausweichtermin)
DESCRIPTION:Kadermanager: https://sv07kriftel-trainer.kadermanager.de/events/19582095
LOCATION:Sportplatz Kriftel
URL:https://sv07kriftel.de/veranstaltungen/bundesjugendspiele-pestalozzi-schule-ausweich-2026-06-22
END:VEVENT
END:VCALENDAR