BEGIN:VCALENDAR
VERSION:2.0
PRODID:-//SV 07 Kriftel//Events//DE
CALSCALE:GREGORIAN
METHOD:PUBLISH
BEGIN:VTIMEZONE
TZID:Europe/Berlin
BEGIN:DAYLIGHT
TZOFFSETFROM:+0100
TZOFFSETTO:+0200
TZNAME:CEST
DTSTART:19700329T020000
RRULE:FREQ=YEARLY;BYMONTH=3;BYDAY=-1SU
END:DAYLIGHT
BEGIN:STANDARD
TZOFFSETFROM:+0200
TZOFFSETTO:+0100
TZNAME:CET
DTSTART:19701025T030000
RRULE:FREQ=YEARLY;BYMONTH=10;BYDAY=-1SU
END:STANDARD
END:VTIMEZONE
BEGIN:VEVENT
UID:f7880732-e617-4f2c-b5c3-2dd1320e6f53@sv07kriftel.de
DTSTAMP:20260424T134847.959Z
DTSTART;TZID=Europe/Berlin:20260508T070000
DTEND;TZID=Europe/Berlin:20260508T090000
SUMMARY:Bundesjugendspiele Steinbergschule
DESCRIPTION:Kadermanager: https://sv07kriftel-trainer.kadermanager.de/events/19668891
LOCATION:Sportplatz Kriftel
URL:https://sv07kriftel.de/veranstaltungen/bundesjugendspiele-steinbergschule-2026-05-08
END:VEVENT
END:VCALENDAR