BEGIN:VCALENDAR
VERSION:2.0
PRODID:-//SV 07 Kriftel//Events//DE
CALSCALE:GREGORIAN
METHOD:PUBLISH
BEGIN:VTIMEZONE
TZID:Europe/Berlin
BEGIN:DAYLIGHT
TZOFFSETFROM:+0100
TZOFFSETTO:+0200
TZNAME:CEST
DTSTART:19700329T020000
RRULE:FREQ=YEARLY;BYMONTH=3;BYDAY=-1SU
END:DAYLIGHT
BEGIN:STANDARD
TZOFFSETFROM:+0200
TZOFFSETTO:+0100
TZNAME:CET
DTSTART:19701025T030000
RRULE:FREQ=YEARLY;BYMONTH=10;BYDAY=-1SU
END:STANDARD
END:VTIMEZONE
BEGIN:VEVENT
UID:99964f1f-0291-4f00-a19f-4bbd7c781598@sv07kriftel.de
DTSTAMP:20260424T134740.950Z
DTSTART;TZID=Europe/Berlin:20260512T070000
DTEND;TZID=Europe/Berlin:20260512T090000
SUMMARY:Bundesjugendspiele Weingartenschule
DESCRIPTION:Kadermanager: https://sv07kriftel-trainer.kadermanager.de/events/19597331
LOCATION:Sportplatz Kriftel
URL:https://sv07kriftel.de/veranstaltungen/bundesjugendspiele-weingartenschule-2026-05-12
END:VEVENT
END:VCALENDAR