BEGIN:VCALENDAR
VERSION:2.0
PRODID:-//SV 07 Kriftel//Events//DE
CALSCALE:GREGORIAN
METHOD:PUBLISH
BEGIN:VTIMEZONE
TZID:Europe/Berlin
BEGIN:DAYLIGHT
TZOFFSETFROM:+0100
TZOFFSETTO:+0200
TZNAME:CEST
DTSTART:19700329T020000
RRULE:FREQ=YEARLY;BYMONTH=3;BYDAY=-1SU
END:DAYLIGHT
BEGIN:STANDARD
TZOFFSETFROM:+0200
TZOFFSETTO:+0100
TZNAME:CET
DTSTART:19701025T030000
RRULE:FREQ=YEARLY;BYMONTH=10;BYDAY=-1SU
END:STANDARD
END:VTIMEZONE
BEGIN:VEVENT
UID:790b472a-4949-43b0-8847-792ef560cbfc@sv07kriftel.de
DTSTAMP:20260424T191820.621Z
DTSTART;TZID=Europe/Berlin:20260513T070000
DTEND;TZID=Europe/Berlin:20260513T090000
SUMMARY:Bundesjugendspiele Weingartenschule
DESCRIPTION:Kadermanager: https://sv07kriftel-trainer.kadermanager.de/events/19597334
LOCATION:Sportplatz Kriftel
URL:https://sv07kriftel.de/veranstaltungen/bundesjugendspiele-weingartenschule-2026-05-13
END:VEVENT
END:VCALENDAR