BEGIN:VCALENDAR
VERSION:2.0
PRODID:-//SV 07 Kriftel//Events//DE
CALSCALE:GREGORIAN
METHOD:PUBLISH
BEGIN:VTIMEZONE
TZID:Europe/Berlin
BEGIN:DAYLIGHT
TZOFFSETFROM:+0100
TZOFFSETTO:+0200
TZNAME:CEST
DTSTART:19700329T020000
RRULE:FREQ=YEARLY;BYMONTH=3;BYDAY=-1SU
END:DAYLIGHT
BEGIN:STANDARD
TZOFFSETFROM:+0200
TZOFFSETTO:+0100
TZNAME:CET
DTSTART:19701025T030000
RRULE:FREQ=YEARLY;BYMONTH=10;BYDAY=-1SU
END:STANDARD
END:VTIMEZONE
BEGIN:VEVENT
UID:64a72a54-f2f6-4b54-b82d-2ef27fe0ab74@sv07kriftel.de
DTSTAMP:20260424T152420.168Z
DTSTART;TZID=Europe/Berlin:20260627T090000
DTEND;TZID=Europe/Berlin:20260627T140000
SUMMARY:TuS Ferienspiele
DESCRIPTION:Kadermanager: https://sv07kriftel-trainer.kadermanager.de/events/19746441\n\nvon 9-14:00 Uhr\, Rasenplatz\, Laufbahn\, etc.
LOCATION:Sportplatz Kriftel\, Hofheimer Str. 56
URL:https://sv07kriftel.de/veranstaltungen/tus-ferienspiele-2026-06-27
END:VEVENT
END:VCALENDAR